BEGIN:VCALENDAR
VERSION:2.0
PRODID:-//Hertfordshire Geological Society - ECPv6.15.20//NONSGML v1.0//EN
CALSCALE:GREGORIAN
METHOD:PUBLISH
X-WR-CALNAME:Hertfordshire Geological Society
X-ORIGINAL-URL:https://www.hertsgeolsoc.org.uk
X-WR-CALDESC:Events for Hertfordshire Geological Society
REFRESH-INTERVAL;VALUE=DURATION:PT1H
X-Robots-Tag:noindex
X-PUBLISHED-TTL:PT1H
BEGIN:VTIMEZONE
TZID:UTC
BEGIN:STANDARD
TZOFFSETFROM:+0000
TZOFFSETTO:+0000
TZNAME:UTC
DTSTART:20230101T000000
END:STANDARD
END:VTIMEZONE
BEGIN:VEVENT
DTSTART;TZID=UTC:20240314T194500
DTEND;TZID=UTC:20240314T213000
DTSTAMP:20260422T072758
CREATED:20231204T145712Z
LAST-MODIFIED:20231210T140234Z
UID:11122-1710445500-1710451800@www.hertsgeolsoc.org.uk
SUMMARY:Annual General Meeting
DESCRIPTION:AGM will be followed by refreshments after which members are invited to share slides on the theme of 50 years of HGS in the field!
URL:https://www.hertsgeolsoc.org.uk/event/agm/
LOCATION:Oaklands College\, Sapsed Room (SR)\, Oaklands College\, St Albans\, Hertfordshire\, AL4 0XS\, United Kingdom
CATEGORIES:AGM
END:VEVENT
END:VCALENDAR