BEGIN:VCALENDAR
VERSION:2.0
PRODID:-//Hertfordshire Geological Society - ECPv6.15.20//NONSGML v1.0//EN
CALSCALE:GREGORIAN
METHOD:PUBLISH
X-ORIGINAL-URL:https://www.hertsgeolsoc.org.uk
X-WR-CALDESC:Events for Hertfordshire Geological Society
REFRESH-INTERVAL;VALUE=DURATION:PT1H
X-Robots-Tag:noindex
X-PUBLISHED-TTL:PT1H
BEGIN:VTIMEZONE
TZID:UTC
BEGIN:STANDARD
TZOFFSETFROM:+0000
TZOFFSETTO:+0000
TZNAME:UTC
DTSTART:20230101T000000
END:STANDARD
END:VTIMEZONE
BEGIN:VEVENT
DTSTART;TZID=UTC:20240111T193000
DTEND;TZID=UTC:20240111T213000
DTSTAMP:20260422T104859
CREATED:20231204T144837Z
LAST-MODIFIED:20240112T065420Z
UID:11116-1705001400-1705008600@www.hertsgeolsoc.org.uk
SUMMARY:Outcrops & Subsurface examples of the EoCambrian petroleum system in Oman
DESCRIPTION:Talk by Professor Stuart Harker\, Retired. \nSouthern Oman has one of the oldest working petroleum systems in the world with source rocks\, reservoirs and productive traps in the Huqf Supergroup (520-600mya).  There are superb world class outcrops of these sediments exposed along the Indian Ocean coast and in the inland salt diapir province.  Reservoirs range in depositional environment from glacial clastics to peritidal stromatolitic carbonates.  Petroleum traps range from conventional tilted fault blocks and anticlines\, through salt induced anticlines to rafted carbonates and silicilyte.  In spite of over 70 years of exploration\, there remain many opportunities to discover additional reservoirs and traps. \nView This Talk In The Members’ Section.
URL:https://www.hertsgeolsoc.org.uk/event/outcrops-subsurface-examples-of-the-eocambrian-petroleum-system-in-oman/
LOCATION:over Zoom
CATEGORIES:Talks
ATTACH;FMTTYPE=image/jpeg:https://www.hertsgeolsoc.org.uk/wp-content/uploads/2023/12/SH-Eocambrian-Outcrops-photo-scaled.jpg
END:VEVENT
END:VCALENDAR