BEGIN:VCALENDAR
VERSION:2.0
PRODID:-//Hertfordshire Geological Society - ECPv6.15.20//NONSGML v1.0//EN
CALSCALE:GREGORIAN
METHOD:PUBLISH
X-ORIGINAL-URL:https://www.hertsgeolsoc.org.uk
X-WR-CALDESC:Events for Hertfordshire Geological Society
REFRESH-INTERVAL;VALUE=DURATION:PT1H
X-Robots-Tag:noindex
X-PUBLISHED-TTL:PT1H
BEGIN:VTIMEZONE
TZID:UTC
BEGIN:STANDARD
TZOFFSETFROM:+0000
TZOFFSETTO:+0000
TZNAME:UTC
DTSTART:20220101T000000
END:STANDARD
END:VTIMEZONE
BEGIN:VEVENT
DTSTART;TZID=UTC:20230608T193000
DTEND;TZID=UTC:20230608T210000
DTSTAMP:20260422T205828
CREATED:20221119T080415Z
LAST-MODIFIED:20230628T105810Z
UID:9882-1686252600-1686258000@www.hertsgeolsoc.org.uk
SUMMARY:The Moine Thrust Controversy
DESCRIPTION:given by Dr. Peter Gutteridge (Director\, Cambridge Carbonates) \nAbstract:\nThe NW Highlands of Scotland probably has the best scenery and geology in the world. You can find the oldest rocks in the British Isles\, the first evidence of life\, ancient landscapes carved out by preCambrian rivers and beautifully exposed Lower Palaeozoic clastic and carbonate sediments. These all form part of a major fold and thrust belt on which the metamorphosed Moine schists were emplaced. \nHowever\, geologist Roderick Impy Murchison saw this as a conformable succession. It is worth asking the question\, why did Victorian geologists so completely miss evidence that is so obvious to geologists today? The answers lie in the state of geological science at the time\, geopolitics and social climbing. Resolution of the Moine thrust controversy was a turning point in the history of geology gave us the foundations of the science of geology as we now know it. \nView this talk in the Members’ Section.
URL:https://www.hertsgeolsoc.org.uk/event/the-moine-thrust-controversy/
LOCATION:Oaklands College\, Sapsed Room (SR)\, Oaklands College\, St Albans\, Hertfordshire\, AL4 0XS\, United Kingdom
CATEGORIES:Talks
ATTACH;FMTTYPE=image/jpeg:https://www.hertsgeolsoc.org.uk/wp-content/uploads/2022/11/PG-Moinr--scaled.jpg
END:VEVENT
BEGIN:VEVENT
DTSTART;TZID=UTC:20230610T100000
DTEND;TZID=UTC:20230610T170000
DTSTAMP:20260422T205828
CREATED:20221027T143202Z
LAST-MODIFIED:20230412T095027Z
UID:9792-1686391200-1686416400@www.hertsgeolsoc.org.uk
SUMMARY:Charnwood Forest
DESCRIPTION:Following interest expressed at the last HGS meeting (Oct) we’ve been in touch with John Carney (ret BGS) and he is willing to lead an HGS trip to Charnwood Forest. \nFor a reasonably compact visit-site\, with all facilities and good scenery\, even Tudor history Bradgate Park provides a great opportunity to potentially find evidence of ancient volcanoes\, igneous intrusions\, earthquakes\, and tsunamis can be found together. We will start at the Hunt’s Hill entrance clearly marked on the Bradgate Park Find Us webpage. \n\n\n\nMore details will be provided in the May Chalk Board. Meet up at Hunters Hill 10:00 – 10:15\, picnic of café for lunch and a selection of great tea shops in Newton Linford to relax at the end of the day. Good paths – undulating walk 5 km. \nTo register for this trip please e-mail nicpierpoint@aol.com
URL:https://www.hertsgeolsoc.org.uk/event/charnwood-forest/
LOCATION:Charnwood Forest\, Charnwood\, LE12 9XJ\, United Kingdom
CATEGORIES:Field Trips
END:VEVENT
END:VCALENDAR