BEGIN:VCALENDAR
VERSION:2.0
PRODID:-//Hertfordshire Geological Society - ECPv6.15.20//NONSGML v1.0//EN
CALSCALE:GREGORIAN
METHOD:PUBLISH
X-WR-CALNAME:Hertfordshire Geological Society
X-ORIGINAL-URL:https://www.hertsgeolsoc.org.uk
X-WR-CALDESC:Events for Hertfordshire Geological Society
REFRESH-INTERVAL;VALUE=DURATION:PT1H
X-Robots-Tag:noindex
X-PUBLISHED-TTL:PT1H
BEGIN:VTIMEZONE
TZID:UTC
BEGIN:STANDARD
TZOFFSETFROM:+0000
TZOFFSETTO:+0000
TZNAME:UTC
DTSTART:20220101T000000
END:STANDARD
END:VTIMEZONE
BEGIN:VEVENT
DTSTART;TZID=UTC:20230511T193000
DTEND;TZID=UTC:20230511T210000
DTSTAMP:20260422T222323
CREATED:20221119T080243Z
LAST-MODIFIED:20230601T133608Z
UID:9879-1683833400-1683838800@www.hertsgeolsoc.org.uk
SUMMARY:Visions of Nature.  Art\, science and natural history museums
DESCRIPTION:given by Prof. Paul Smith (Director University of Oxford\, Natural History Museum). \nAbstract \n\n\n\nIn an era of polarised opinion and a difficulty in determining the veracity of information\, science museums play an important role as ‘honest brokers’ in both enabling and encouraging public debate around science. Surveys on both side of the Atlantic have demonstrated that museums are amongst the most trusted providers of information\, but first they need audiences to discuss and debate with. \nFor the last few years\, Oxford University Museum of Natural History has been operating an innovative series of exhibitions entitled Contemporary Science & Society. Each exhibition is an interdisciplinary investigation of an aspect of current science research and interweaves the scientific storytelling with related contemporary art that enhances the audience appeal. The exhibition is\, however\, only a starting point for a broader programme of events that range from lectures and debates to more informal science fairs\, art interventions and comedy nights. Audiences for each exhibition range up to 245\,000 and both qualitative and quantitative evaluation show that the content has had the ability to change people’s decision-making and behaviours. \nThe lecture will examine a variety of recent exhibitions\, the range of issues that the exhibition series is seeking to address\, and the role of a natural history museum in modern society. \n\nView this talk in the Members’ Section.
URL:https://www.hertsgeolsoc.org.uk/event/visions-of-nature-art-science-and-natural-history-museums/
LOCATION:Oaklands College\, Sapsed Room (SR)\, Oaklands College\, St Albans\, Hertfordshire\, AL4 0XS\, United Kingdom
CATEGORIES:Talks
ATTACH;FMTTYPE=image/jpeg:https://www.hertsgeolsoc.org.uk/wp-content/uploads/2022/11/e-coli-sculpture-2560x1706-1.jpeg
END:VEVENT
BEGIN:VEVENT
DTSTART;TZID=UTC:20230513T103000
DTEND;TZID=UTC:20230513T163000
DTSTAMP:20260422T222323
CREATED:20230320T204434Z
LAST-MODIFIED:20230320T204434Z
UID:10403-1683973800-1683995400@www.hertsgeolsoc.org.uk
SUMMARY:'Puddingstone Peregrination'
DESCRIPTION:Meeting at 10.30 at the ‘Standon Stone’ near the church in Standon village ( O.S. TL 396223 ). Sandwiches and coffee can be picked up at Day’s bakery in the village. Then to the newly discovered ‘William Smith’s HPS mounting block’ mentioned in 1819!! We will then look at HPS boulders at various sites along the A120 to Bishops Stortford. \nIncluding the HPS boulder described by Chris Green now at Hadham Ford (where we will have lunch)\, The Hadham Hall boulder which features in a ‘Work of Art’. The collection of boulders at Wickham Hall\, where we will discuss the erosion and formation of HPS boulders over coffee. \nTo register for this trip please e-mail mehowgate@hotmail.com.
URL:https://www.hertsgeolsoc.org.uk/event/puddingstone-peregrination/
LOCATION:St Mary’s Church\, Standon\, High Street\, Standon\, Hertfordshire\, SG11 1LA\, United Kingdom
CATEGORIES:Field Trips
ATTACH;FMTTYPE=image/jpeg:https://www.hertsgeolsoc.org.uk/wp-content/uploads/2023/03/Screenshot-2023-03-20-at-20.30.24.jpg
END:VEVENT
END:VCALENDAR