BEGIN:VCALENDAR
VERSION:2.0
PRODID:-//Hertfordshire Geological Society - ECPv6.15.20//NONSGML v1.0//EN
CALSCALE:GREGORIAN
METHOD:PUBLISH
X-WR-CALNAME:Hertfordshire Geological Society
X-ORIGINAL-URL:https://www.hertsgeolsoc.org.uk
X-WR-CALDESC:Events for Hertfordshire Geological Society
REFRESH-INTERVAL;VALUE=DURATION:PT1H
X-Robots-Tag:noindex
X-PUBLISHED-TTL:PT1H
BEGIN:VTIMEZONE
TZID:UTC
BEGIN:STANDARD
TZOFFSETFROM:+0000
TZOFFSETTO:+0000
TZNAME:UTC
DTSTART:20220101T000000
END:STANDARD
END:VTIMEZONE
BEGIN:VEVENT
DTSTART;TZID=UTC:20230427T193000
DTEND;TZID=UTC:20230427T210000
DTSTAMP:20260422T233729
CREATED:20221119T171425Z
LAST-MODIFIED:20230505T163818Z
UID:9908-1682623800-1682629200@www.hertsgeolsoc.org.uk
SUMMARY:Percy Evans Lecture: The Norber Erratics
DESCRIPTION:given by Clive Maton (Honorary President\, HGS) \nAbstract\nThe Norber Erratics are well known and are featured in geological text books and numerous local guides to the Yorkshire Dales. This is partially due to their large size\, the very large numbers\, and all being located in a relatively small area; but they are best known for their emplacement on Carboniferous Limestone pedestals.They have been the subject of much study. The first scientific papers were published in the late 19th Century  and many more have described and discussed them in the last 150 years. My study of them started as they were included in the area of my Map & Thesis\, which formed part of my Geology degree\, and I have continued to visit the area for post graduate field work. This\, together with my recent research on the source and flow of the erratics\, form the basis of the lecture.  \nView this talk in the Members’ Section.
URL:https://www.hertsgeolsoc.org.uk/event/percy-evans-lecture-the-norber-erratics/
LOCATION:Hartoak Room\, Mansion House\, Oaklands College\, St Albans\, Hertfordshire\, AL4 0XS\, United Kingdom
CATEGORIES:Talks
ATTACH;FMTTYPE=image/jpeg:https://www.hertsgeolsoc.org.uk/wp-content/uploads/2023/03/Norber-erratic-scaled.jpg
END:VEVENT
END:VCALENDAR