BEGIN:VCALENDAR
VERSION:2.0
PRODID:-//Hertfordshire Geological Society - ECPv6.15.20//NONSGML v1.0//EN
CALSCALE:GREGORIAN
METHOD:PUBLISH
X-WR-CALNAME:Hertfordshire Geological Society
X-ORIGINAL-URL:https://www.hertsgeolsoc.org.uk
X-WR-CALDESC:Events for Hertfordshire Geological Society
REFRESH-INTERVAL;VALUE=DURATION:PT1H
X-Robots-Tag:noindex
X-PUBLISHED-TTL:PT1H
BEGIN:VTIMEZONE
TZID:UTC
BEGIN:STANDARD
TZOFFSETFROM:+0000
TZOFFSETTO:+0000
TZNAME:UTC
DTSTART:20220101T000000
END:STANDARD
END:VTIMEZONE
BEGIN:VEVENT
DTSTART;TZID=UTC:20230325T100000
DTEND;TZID=UTC:20230325T163000
DTSTAMP:20260423T005916
CREATED:20230110T201408Z
LAST-MODIFIED:20230110T202138Z
UID:10069-1679738400-1679761800@www.hertsgeolsoc.org.uk
SUMMARY:Building Stone walk in Aylesbury & visit Discover Bucks Museum
DESCRIPTION:Meet outside Aylesbury Waterside Theatre (HP20 1UG) 10:00 for 10:15 departure\n– best parking is in Waterside Multi-Story Car Park (HP20 1AL) on level 2 or 3 \nItinerary \nMorning: 2 1/2 hour walk through the old town centre of Aylesbury \nLunch: at the Kings Head which is owned by the National Trust \nAfternoon: Discover Bucks Museum – in particular the new Geology display \nFinish: mid afternoon 15:30/16:00 \nPlease contact Nick Pierpoint at nicpierpoint@aol.com to reserve a place
URL:https://www.hertsgeolsoc.org.uk/event/building-stone-walk-in-aylesbury-visit-discover-bucks-museum/
LOCATION:Waterside Theatre\, Exchange Street\, Aylesbury\, Hertfordshire\, HP20 1UG
CATEGORIES:Field Trips
END:VEVENT
END:VCALENDAR