BEGIN:VCALENDAR
VERSION:2.0
PRODID:-//Hertfordshire Geological Society - ECPv6.15.20//NONSGML v1.0//EN
CALSCALE:GREGORIAN
METHOD:PUBLISH
X-WR-CALNAME:Hertfordshire Geological Society
X-ORIGINAL-URL:https://www.hertsgeolsoc.org.uk
X-WR-CALDESC:Events for Hertfordshire Geological Society
REFRESH-INTERVAL;VALUE=DURATION:PT1H
X-Robots-Tag:noindex
X-PUBLISHED-TTL:PT1H
BEGIN:VTIMEZONE
TZID:UTC
BEGIN:STANDARD
TZOFFSETFROM:+0000
TZOFFSETTO:+0000
TZNAME:UTC
DTSTART:20200101T000000
END:STANDARD
END:VTIMEZONE
BEGIN:VEVENT
DTSTART;TZID=UTC:20211007T193000
DTEND;TZID=UTC:20211007T210000
DTSTAMP:20260424T002024
CREATED:20210627T145052Z
LAST-MODIFIED:20211129T143059Z
UID:1977-1633635000-1633640400@www.hertsgeolsoc.org.uk
SUMMARY:Geoconservation - principles into practice
DESCRIPTION:given by Dr Colin Prosser (Principle Specialist in Geoconservation\, Natural England). \nRearranged from October 2020. \n\nAbstract:\nThe UK is extremely geodiverse with many geological features and sites of international\, national and local importance for research\, education\, tourism and recreation. However\, we are a small country with a large population and our geoheritage is subject to a range of threats. These include development pressure\, landfill\, coastal and river engineering\, neglect and ignorance. Retaining these features and sites for future generations requires us to take action locally\, nationally and internationally\, both to conserve them and to raise awareness amongst the public and decision makers about their value to science and society. This talk explores some of the broad principles which influence different approaches to geoconservation and drawing upon the work of local geoconservation groups and societies\, national associations\, government conservation agencies and UNESCO Global Geoparks and World Heritage Sites\, illustrates how geoconservation is being put into practice on the ground.\n\n\nView this talk in the Members’ Section.
URL:https://www.hertsgeolsoc.org.uk/event/geoconservation-principles-into-practice/
LOCATION:Zoom Talk
CATEGORIES:Talks
ATTACH;FMTTYPE=image/jpeg:https://www.hertsgeolsoc.org.uk/wp-content/uploads/2021/06/Dorset07-008.jpeg
END:VEVENT
BEGIN:VEVENT
DTSTART;TZID=UTC:20211031T183000
DTEND;TZID=UTC:20211031T203000
DTSTAMP:20260424T002024
CREATED:20211024T151051Z
LAST-MODIFIED:20211024T154620Z
UID:5577-1635705000-1635712200@www.hertsgeolsoc.org.uk
SUMMARY:GA Zoom talk/workshop
DESCRIPTION:on the Wealden (Smokejacks)
URL:https://www.hertsgeolsoc.org.uk/event/ga-zoom-talk-workshop-on-the-wealden-smokejacks/
LOCATION:over Zoom
CATEGORIES:GA Event
END:VEVENT
END:VCALENDAR