BEGIN:VCALENDAR
VERSION:2.0
PRODID:-//Hertfordshire Geological Society - ECPv6.15.20//NONSGML v1.0//EN
CALSCALE:GREGORIAN
METHOD:PUBLISH
X-WR-CALNAME:Hertfordshire Geological Society
X-ORIGINAL-URL:https://www.hertsgeolsoc.org.uk
X-WR-CALDESC:Events for Hertfordshire Geological Society
REFRESH-INTERVAL;VALUE=DURATION:PT1H
X-Robots-Tag:noindex
X-PUBLISHED-TTL:PT1H
BEGIN:VTIMEZONE
TZID:UTC
BEGIN:STANDARD
TZOFFSETFROM:+0000
TZOFFSETTO:+0000
TZNAME:UTC
DTSTART:20170101T000000
END:STANDARD
END:VTIMEZONE
BEGIN:VEVENT
DTSTART;VALUE=DATE:20190919
DTEND;VALUE=DATE:20190923
DTSTAMP:20260422T222909
CREATED:20211115T172421Z
LAST-MODIFIED:20211116T131446Z
UID:5884-1568851200-1569196799@www.hertsgeolsoc.org.uk
SUMMARY:Peak District - From the bowels of the earth to the Garden of Eden
DESCRIPTION:Summary of Excursion
URL:https://www.hertsgeolsoc.org.uk/event/peak-district-from-the-bowels-of-the-earth-to-the-garden-of-eden/
LOCATION:Hertfordshire
CATEGORIES:Field Trips
ATTACH;FMTTYPE=image/jpeg:https://www.hertsgeolsoc.org.uk/wp-content/uploads/2021/11/IMG_0391-scaled.jpeg
END:VEVENT
BEGIN:VEVENT
DTSTART;VALUE=DATE:20180906
DTEND;VALUE=DATE:20180910
DTSTAMP:20260422T222909
CREATED:20211115T172259Z
LAST-MODIFIED:20211116T133103Z
UID:5880-1536192000-1536537599@www.hertsgeolsoc.org.uk
SUMMARY:Some aspects of the Geology of Mayo\, Western Ireland
DESCRIPTION:Summary of excursion
URL:https://www.hertsgeolsoc.org.uk/event/some-aspects-of-the-geology-of-mayo-western-ireland/
LOCATION:Hertfordshire
CATEGORIES:Field Trips
ATTACH;FMTTYPE=image/jpeg:https://www.hertsgeolsoc.org.uk/wp-content/uploads/2021/11/Mayo101.jpg
END:VEVENT
END:VCALENDAR