BEGIN:VCALENDAR
VERSION:2.0
PRODID:-//Hertfordshire Geological Society - ECPv6.15.20//NONSGML v1.0//EN
CALSCALE:GREGORIAN
METHOD:PUBLISH
X-ORIGINAL-URL:https://www.hertsgeolsoc.org.uk
X-WR-CALDESC:Events for Hertfordshire Geological Society
REFRESH-INTERVAL;VALUE=DURATION:PT1H
X-Robots-Tag:noindex
X-PUBLISHED-TTL:PT1H
BEGIN:VTIMEZONE
TZID:UTC
BEGIN:STANDARD
TZOFFSETFROM:+0000
TZOFFSETTO:+0000
TZNAME:UTC
DTSTART:20210101T000000
END:STANDARD
END:VTIMEZONE
BEGIN:VEVENT
DTSTART;TZID=UTC:20221215T193000
DTEND;TZID=UTC:20221215T210000
DTSTAMP:20260423T103724
CREATED:20230116T171747Z
LAST-MODIFIED:20230116T171747Z
UID:10108-1671132600-1671138000@www.hertsgeolsoc.org.uk
SUMMARY:Below the Bonnie Banks - investigating Lock Lomond's subaqueous Quaternary landscape
DESCRIPTION:given by Dr. Andrew Finlayson (Quaternary Geologist\, BGS Edinburgh) \nAbstract:\nLoch Lomond is an iconic part of Scotland’s scenery\, spanning landscapes of both Highland and Lowland character on either side of the Highland Boundary Fault.  From a Quaternary geological perspective\, the wider Loch Lomond basin has a long history of research and forms a type area for a period of environmental change at the end of the last glacial cycle in Britain – the ‘Loch Lomond Stadial’.  However\, there is still relatively little known about the submerged landscape below the loch surface.   This talk will give a brief overview of the Quaternary landscape evolution around Loch Lomond and then present new findings from multibeam bathymetry and shallow seismic profiles.  We will look at how these data add the loch’s glacial and postglacial story\, and also what they tell us about more recent processes such as subaqueous landslides associated with shoreline infrastructure.  \nView this talk in the Members’ Section.
URL:https://www.hertsgeolsoc.org.uk/event/below-the-bonnie-banks-investigating-lock-lomonds-subaqueous-quaternary-landscape/
LOCATION:over Zoom
CATEGORIES:Talks
ATTACH;FMTTYPE=image/jpeg:https://www.hertsgeolsoc.org.uk/wp-content/uploads/2021/12/P001246-Small.jpeg
END:VEVENT
END:VCALENDAR