BEGIN:VCALENDAR
VERSION:2.0
PRODID:-//Hertfordshire Geological Society - ECPv6.15.20//NONSGML v1.0//EN
CALSCALE:GREGORIAN
METHOD:PUBLISH
X-WR-CALNAME:Hertfordshire Geological Society
X-ORIGINAL-URL:https://www.hertsgeolsoc.org.uk
X-WR-CALDESC:Events for Hertfordshire Geological Society
REFRESH-INTERVAL;VALUE=DURATION:PT1H
X-Robots-Tag:noindex
X-PUBLISHED-TTL:PT1H
BEGIN:VTIMEZONE
TZID:UTC
BEGIN:STANDARD
TZOFFSETFROM:+0000
TZOFFSETTO:+0000
TZNAME:UTC
DTSTART:20230101T000000
END:STANDARD
END:VTIMEZONE
BEGIN:VEVENT
DTSTART;TZID=UTC:20240509T194500
DTEND;TZID=UTC:20240509T213000
DTSTAMP:20260422T091317
CREATED:20231204T151115Z
LAST-MODIFIED:20240514T212931Z
UID:11131-1715283900-1715290200@www.hertsgeolsoc.org.uk
SUMMARY:Identification and implications of the London Clay Formation divisions from an engineering perspective
DESCRIPTION:Dr. Jamie Standing\, Imperial College London \nAbstract: Historically\, engineers viewed the London Clay (LC) Formation as uniform\, homogeneous and rather uninteresting.  Chris King’s seminal work provided a much deeper insight into the characteristics of the LC and how it can be split into divisions\, based on the depositional history of the formation and the microfauna present.  LC water content profiles were compiled from continuous cores as part of an investigation into variations in tunnelling-induced settlements across St James’s Park\, allowing distinct zones to be identified.  These were found to coincide exactly with the divisions identified by Chris King almost twenty years earlier.  Water content profiles can be developed as part of a ground investigation and used to help establish the boundaries between King’s divisions.  Based on two further water content profiles from Hyde Park and St John’s Wood a new methodology for locating the boundaries of the divisions\, involving a trend-line for sub-Division A3\, is proposed and tested\, relevant to conditions in central London.  In developing the method\, significant differences in the elevation of the divisions between the three sites is observed\, suggesting geological processes such as folding or faulting have influenced the LC along the  5-km length of the section.  Once the boundaries of the LC divisions are known\, geotechnical engineers have a greatly improved overall understanding of the ground conditions and how the ground will respond to engineering works such as tunnelling and deep excavations.  Broad engineering implications of the divisions are described and discussed\, citing case histories where possible. \nView This Talk In The Members’ Section.
URL:https://www.hertsgeolsoc.org.uk/event/tunnelling-the-london-clay-title-tbc/
LOCATION:Oaklands College\, Sapsed Room (SR)\, Oaklands College\, St Albans\, Hertfordshire\, AL4 0XS\, United Kingdom
CATEGORIES:Talks
ATTACH;FMTTYPE=image/jpeg:https://www.hertsgeolsoc.org.uk/wp-content/uploads/2024/03/Standing-Sub-divisions-of-the-London-Clay-at-Westminster.jpg
END:VEVENT
END:VCALENDAR