BEGIN:VCALENDAR
VERSION:2.0
PRODID:-//Hertfordshire Geological Society - ECPv6.15.20//NONSGML v1.0//EN
CALSCALE:GREGORIAN
METHOD:PUBLISH
X-WR-CALNAME:Hertfordshire Geological Society
X-ORIGINAL-URL:https://www.hertsgeolsoc.org.uk
X-WR-CALDESC:Events for Hertfordshire Geological Society
REFRESH-INTERVAL;VALUE=DURATION:PT1H
X-Robots-Tag:noindex
X-PUBLISHED-TTL:PT1H
BEGIN:VTIMEZONE
TZID:UTC
BEGIN:STANDARD
TZOFFSETFROM:+0000
TZOFFSETTO:+0000
TZNAME:UTC
DTSTART:20250101T000000
END:STANDARD
END:VTIMEZONE
BEGIN:VEVENT
DTSTART;VALUE=DATE:20260718
DTEND;VALUE=DATE:20260719
DTSTAMP:20260424T143221
CREATED:20251224T114558Z
LAST-MODIFIED:20260405T162211Z
UID:18207-1784332800-1784419199@www.hertsgeolsoc.org.uk
SUMMARY:St Albans’ building stones walk
DESCRIPTION:with Haydon Bailey\, geological advisor to the Chiltern Society. \nThis is a joint event with the Bucks Geology Group. PLACES LIMITED – BOOKING ESSENTIAL. \nFor more information and to book you place\, please contact Mike Palmer at mpalmer@discoverbucksmuseum.org
URL:https://www.hertsgeolsoc.org.uk/event/st-albans-building-stone-walk/
LOCATION:Charnwood
CATEGORIES:Field Trips
END:VEVENT
BEGIN:VEVENT
DTSTART;TZID=UTC:20261017T100000
DTEND;TZID=UTC:20261017T163000
DTSTAMP:20260424T143221
CREATED:20251224T114300Z
LAST-MODIFIED:20251224T114300Z
UID:18202-1792231200-1792254600@www.hertsgeolsoc.org.uk
SUMMARY:Ashridge House and Gardens
DESCRIPTION:A walk around the house and gardens. \nMore details to follow.
URL:https://www.hertsgeolsoc.org.uk/event/ashridge-house-and-gardens/
LOCATION:Ashridge House\, Ashridge\, Berkhamsted\, Hertfordshire\, HP4 1NS\, United Kingdom
CATEGORIES:Field Trips
END:VEVENT
END:VCALENDAR