BEGIN:VCALENDAR
VERSION:2.0
PRODID:-//Hertfordshire Geological Society - ECPv6.15.20//NONSGML v1.0//EN
CALSCALE:GREGORIAN
METHOD:PUBLISH
X-ORIGINAL-URL:https://www.hertsgeolsoc.org.uk
X-WR-CALDESC:Events for Hertfordshire Geological Society
REFRESH-INTERVAL;VALUE=DURATION:PT1H
X-Robots-Tag:noindex
X-PUBLISHED-TTL:PT1H
BEGIN:VTIMEZONE
TZID:UTC
BEGIN:STANDARD
TZOFFSETFROM:+0000
TZOFFSETTO:+0000
TZNAME:UTC
DTSTART:20210101T000000
END:STANDARD
END:VTIMEZONE
BEGIN:VEVENT
DTSTART;TZID=UTC:20220423T100000
DTEND;TZID=UTC:20220423T153000
DTSTAMP:20260423T212558
CREATED:20211204T061358Z
LAST-MODIFIED:20211205T153339Z
UID:6644-1650708000-1650727800@www.hertsgeolsoc.org.uk
SUMMARY:Joint BGS/HGS Field Trip to Greensand Ridge
DESCRIPTION:led by Bev Fowlston (BGS). \n\n\n\n\nMeet at Clophill Ecolodges at 10:00 for 10:30 depart \n\n\n\n\nField trip details \n 
URL:https://www.hertsgeolsoc.org.uk/event/greensand-ridge-field-trip/
LOCATION:Clophill Ecolodges\, Old Church Path\, Clophill\, Bedfordshire\, MK45 4BP
CATEGORIES:Field Trips
END:VEVENT
END:VCALENDAR