BEGIN:VCALENDAR
VERSION:2.0
PRODID:-//Hertfordshire Geological Society - ECPv6.15.20//NONSGML v1.0//EN
CALSCALE:GREGORIAN
METHOD:PUBLISH
X-ORIGINAL-URL:https://www.hertsgeolsoc.org.uk
X-WR-CALDESC:Events for Hertfordshire Geological Society
REFRESH-INTERVAL;VALUE=DURATION:PT1H
X-Robots-Tag:noindex
X-PUBLISHED-TTL:PT1H
BEGIN:VTIMEZONE
TZID:UTC
BEGIN:STANDARD
TZOFFSETFROM:+0000
TZOFFSETTO:+0000
TZNAME:UTC
DTSTART:20210101T000000
END:STANDARD
END:VTIMEZONE
BEGIN:VEVENT
DTSTART;TZID=UTC:20221118T080000
DTEND;TZID=UTC:20221118T170000
DTSTAMP:20260423T102827
CREATED:20221118T173045Z
LAST-MODIFIED:20221119T171031Z
UID:9877-1668758400-1668790800@www.hertsgeolsoc.org.uk
SUMMARY:AGM
DESCRIPTION:followed by Talk on Hertfordshire RIGS
URL:https://www.hertsgeolsoc.org.uk/event/agm-followed-by-percy-evans-lecture-on-the-norber-erratics/
LOCATION:Hertfordshire
CATEGORIES:AGM
END:VEVENT
END:VCALENDAR