BEGIN:VCALENDAR
VERSION:2.0
PRODID:-//Hertfordshire Geological Society - ECPv6.15.20//NONSGML v1.0//EN
CALSCALE:GREGORIAN
METHOD:PUBLISH
X-ORIGINAL-URL:https://www.hertsgeolsoc.org.uk
X-WR-CALDESC:Events for Hertfordshire Geological Society
REFRESH-INTERVAL;VALUE=DURATION:PT1H
X-Robots-Tag:noindex
X-PUBLISHED-TTL:PT1H
BEGIN:VTIMEZONE
TZID:UTC
BEGIN:STANDARD
TZOFFSETFROM:+0000
TZOFFSETTO:+0000
TZNAME:UTC
DTSTART:20240101T000000
END:STANDARD
END:VTIMEZONE
BEGIN:VEVENT
DTSTART;TZID=UTC:20250410T194500
DTEND;TZID=UTC:20250410T213000
DTSTAMP:20260421T145912
CREATED:20241203T114147Z
LAST-MODIFIED:20250412T112954Z
UID:12536-1744314300-1744320600@www.hertsgeolsoc.org.uk
SUMMARY:Epping Forest through geological time
DESCRIPTION:48th Percy Evans Lecture given by Mike Lambert\, HGS Honorary President \nAs a child\, Epping Forest was my playground\, where I climbed trees\, made dams and rode my bike. But there was one way in which it disappointed me. When I began collecting fossils and minerals and taking an interest in Geology\, it seemed to have nothing to offer. Real Geology\, so it seemed to me\, only existed in places like Lyme Regis and Scotland. \nThis talk is my attempt to set the record straight and appreciate the many wonders that exist in and under Epping Forest. After describing the Epping Forest Ridge in its regional context\, I’ll work my way up a stratigraphic column\, from the oldest rocks of the Palaeozoic basement to the youngest superficial deposits. Along the way\, we’ll examine discoveries made from roadworks in the 1970s\, see how Anglian ice turned rivers back-to-front and visit a Neanderthal hunting and butchery site. \nView this talk in the Members’ Section.
URL:https://www.hertsgeolsoc.org.uk/event/is-epping-forest-a-nunatak/
LOCATION:Oaklands College\, Sapsed Room (SR)\, Oaklands College\, St Albans\, Hertfordshire\, AL4 0XS\, United Kingdom
CATEGORIES:Talks
ATTACH;FMTTYPE=image/jpeg:https://www.hertsgeolsoc.org.uk/wp-content/uploads/2025/03/EppingForrest-kc11777_xgaplus.jpg
END:VEVENT
END:VCALENDAR