BEGIN:VCALENDAR
VERSION:2.0
PRODID:-//Hertfordshire Geological Society - ECPv6.15.20//NONSGML v1.0//EN
CALSCALE:GREGORIAN
METHOD:PUBLISH
X-ORIGINAL-URL:https://www.hertsgeolsoc.org.uk
X-WR-CALDESC:Events for Hertfordshire Geological Society
REFRESH-INTERVAL;VALUE=DURATION:PT1H
X-Robots-Tag:noindex
X-PUBLISHED-TTL:PT1H
BEGIN:VTIMEZONE
TZID:UTC
BEGIN:STANDARD
TZOFFSETFROM:+0000
TZOFFSETTO:+0000
TZNAME:UTC
DTSTART:20220101T000000
END:STANDARD
END:VTIMEZONE
BEGIN:VEVENT
DTSTART;TZID=UTC:20231212T193000
DTEND;TZID=UTC:20231212T210000
DTSTAMP:20260422T133840
CREATED:20221119T082029Z
LAST-MODIFIED:20231213T072314Z
UID:9893-1702409400-1702414800@www.hertsgeolsoc.org.uk
SUMMARY:Dinosaurs: New Visions of a Lost World
DESCRIPTION:given by Prof. Mike Benton (Professor of Vertebrate Palaeontology\, University of Bristol) \n\n\n\nTwenty-five years ago\, the first feathered dinosaur was reported\, Sinosauropteryx. There has been a revolution in dinosaur palaeobiology since then\, driven by thousands of amazing specimens from China plus new analytical methods. \nIn 2010\, we were among the first to develop a new analytical method to identify the colour of feathers\, including the feathers of dinosaurs. Suddenly the ancient world came to life! \nSince then\, the methods have been criticised\, tested\, and applied to many exceptional fossils of dinosaurs and birds\, and the plumage colours and patterns reconstructed. These methods are scientific\, meaning they can be tested (and so far they have withstood critical testing)\, and they make definite predictions about the colours of dinosaurs and other extinct animals. \nOrder a copy here: https://bit.ly/DinosaursNewVisions \nMore information: \nhttps://thamesandhudson.com/dinosaurs-new-visions-of-a-lost-world-9780500052198 \nhttps://dinocolour.blogs.bristol.ac.uk/ \nView this talk in the Members’ Section.
URL:https://www.hertsgeolsoc.org.uk/event/dinosaurs-new-visions-of-a-lost-world/
LOCATION:over Zoom
CATEGORIES:Talks
ATTACH;FMTTYPE=image/png:https://www.hertsgeolsoc.org.uk/wp-content/uploads/2022/11/Mike-Benton-Image.png
END:VEVENT
END:VCALENDAR