BEGIN:VCALENDAR
VERSION:2.0
PRODID:-//Hertfordshire Geological Society - ECPv6.15.20//NONSGML v1.0//EN
CALSCALE:GREGORIAN
METHOD:PUBLISH
X-WR-CALNAME:Hertfordshire Geological Society
X-ORIGINAL-URL:https://www.hertsgeolsoc.org.uk
X-WR-CALDESC:Events for Hertfordshire Geological Society
REFRESH-INTERVAL;VALUE=DURATION:PT1H
X-Robots-Tag:noindex
X-PUBLISHED-TTL:PT1H
BEGIN:VTIMEZONE
TZID:UTC
BEGIN:STANDARD
TZOFFSETFROM:+0000
TZOFFSETTO:+0000
TZNAME:UTC
DTSTART:20220101T000000
END:STANDARD
END:VTIMEZONE
BEGIN:VEVENT
DTSTART;VALUE=DATE:20231104
DTEND;VALUE=DATE:20231105
DTSTAMP:20260422T152526
CREATED:20230712T074925Z
LAST-MODIFIED:20230712T074925Z
UID:10655-1699056000-1699142399@www.hertsgeolsoc.org.uk
SUMMARY:Geologist's Association Festival of Geology
DESCRIPTION:
URL:https://www.hertsgeolsoc.org.uk/event/geologists-association-festival-of-geology/
LOCATION:University College London\, Gower Street\, London\, WC1E 6BT\, United Kingdom
CATEGORIES:GA Event
END:VEVENT
END:VCALENDAR