BEGIN:VCALENDAR
VERSION:2.0
PRODID:-//Hertfordshire Geological Society - ECPv6.15.20//NONSGML v1.0//EN
CALSCALE:GREGORIAN
METHOD:PUBLISH
X-ORIGINAL-URL:https://www.hertsgeolsoc.org.uk
X-WR-CALDESC:Events for Hertfordshire Geological Society
REFRESH-INTERVAL;VALUE=DURATION:PT1H
X-Robots-Tag:noindex
X-PUBLISHED-TTL:PT1H
BEGIN:VTIMEZONE
TZID:UTC
BEGIN:STANDARD
TZOFFSETFROM:+0000
TZOFFSETTO:+0000
TZNAME:UTC
DTSTART:20220101T000000
END:STANDARD
END:VTIMEZONE
BEGIN:VEVENT
DTSTART;TZID=UTC:20230106T180000
DTEND;TZID=UTC:20230106T193000
DTSTAMP:20260423T050417
CREATED:20221215T193325Z
LAST-MODIFIED:20221215T193325Z
UID:10040-1673028000-1673033400@www.hertsgeolsoc.org.uk
SUMMARY:GA Lecture
DESCRIPTION:The Lower Cretaceous ‘East Lindsey Group’ a jewel in the geological crown of Lincolnshire given by Paul Hildreth (Yorkshire Geological Society)
URL:https://www.hertsgeolsoc.org.uk/event/ga-lecture-5/
LOCATION:over Zoom
END:VEVENT
END:VCALENDAR