BEGIN:VCALENDAR
VERSION:2.0
PRODID:-//Hertfordshire Geological Society - ECPv6.15.20//NONSGML v1.0//EN
CALSCALE:GREGORIAN
METHOD:PUBLISH
X-WR-CALNAME:Hertfordshire Geological Society
X-ORIGINAL-URL:https://www.hertsgeolsoc.org.uk
X-WR-CALDESC:Events for Hertfordshire Geological Society
REFRESH-INTERVAL;VALUE=DURATION:PT1H
X-Robots-Tag:noindex
X-PUBLISHED-TTL:PT1H
BEGIN:VTIMEZONE
TZID:UTC
BEGIN:STANDARD
TZOFFSETFROM:+0000
TZOFFSETTO:+0000
TZNAME:UTC
DTSTART:20210101T000000
END:STANDARD
END:VTIMEZONE
BEGIN:VEVENT
DTSTART;TZID=UTC:20221013T183000
DTEND;TZID=UTC:20221013T200000
DTSTAMP:20260423T090237
CREATED:20211202T165038Z
LAST-MODIFIED:20221020T085555Z
UID:6627-1665685800-1665691200@www.hertsgeolsoc.org.uk
SUMMARY:The first day of the Cenozoic: Insights from the Chicxulub impact crater
DESCRIPTION:given by Dr. Auriol Rae (Junior Research Fellow in Earth Sciences Trinity College\, University of Cambridge) \nAbstract: \n66 Million years ago\, a 14 km-diameter meteoroid struck the Earth at approximately 20 km/s. This event had a profound influence on the history of life on Earth – causing the extinction of around 75% of all species including all of the non-avian dinosaurs. This impact produced the 200 km-diameter Chicxulub Crater\, located in present-day Mexico. This talk will look at the geological\, climatological\, and biological consequences of the end-Cretaceous impact\, with particular insight from drilling of the crater in 2016 by the International Ocean Discovery Program. Furthermore\, the wider significance of impact crater formation as a planetary geological process will be discussed. \nView this talk in the Members’ Section.
URL:https://www.hertsgeolsoc.org.uk/event/notes-from-deep-time-a-journey-through-past-and-future-worlds/
LOCATION:Oaklands College\, Sapsed Room (SR)\, Oaklands College\, St Albans\, Hertfordshire\, AL4 0XS\, United Kingdom
CATEGORIES:Talks
ATTACH;FMTTYPE=image/jpeg:https://www.hertsgeolsoc.org.uk/wp-content/uploads/2021/12/IMG_6412-scaled.jpeg
END:VEVENT
END:VCALENDAR