BEGIN:VCALENDAR
VERSION:2.0
PRODID:-//Hertfordshire Geological Society - ECPv6.15.20//NONSGML v1.0//EN
CALSCALE:GREGORIAN
METHOD:PUBLISH
X-WR-CALNAME:Hertfordshire Geological Society
X-ORIGINAL-URL:https://www.hertsgeolsoc.org.uk
X-WR-CALDESC:Events for Hertfordshire Geological Society
REFRESH-INTERVAL;VALUE=DURATION:PT1H
X-Robots-Tag:noindex
X-PUBLISHED-TTL:PT1H
BEGIN:VTIMEZONE
TZID:UTC
BEGIN:STANDARD
TZOFFSETFROM:+0000
TZOFFSETTO:+0000
TZNAME:UTC
DTSTART:20210101T000000
END:STANDARD
END:VTIMEZONE
BEGIN:VEVENT
DTSTART;TZID=UTC:20221007T180000
DTEND;TZID=UTC:20221007T193000
DTSTAMP:20260423T091129
CREATED:20220824T105928Z
LAST-MODIFIED:20220824T110353Z
UID:9626-1665165600-1665171000@www.hertsgeolsoc.org.uk
SUMMARY:GA Lecture
DESCRIPTION:The rise and fall of the last British-Irish Ice Sheet given by Prof Chris Clark.
URL:https://www.hertsgeolsoc.org.uk/event/ga-lecture-4/
LOCATION:Zoom Talk
END:VEVENT
END:VCALENDAR