BEGIN:VCALENDAR
VERSION:2.0
PRODID:-//Hertfordshire Geological Society - ECPv6.15.20//NONSGML v1.0//EN
CALSCALE:GREGORIAN
METHOD:PUBLISH
X-ORIGINAL-URL:https://www.hertsgeolsoc.org.uk
X-WR-CALDESC:Events for Hertfordshire Geological Society
REFRESH-INTERVAL;VALUE=DURATION:PT1H
X-Robots-Tag:noindex
X-PUBLISHED-TTL:PT1H
BEGIN:VTIMEZONE
TZID:UTC
BEGIN:STANDARD
TZOFFSETFROM:+0000
TZOFFSETTO:+0000
TZNAME:UTC
DTSTART:20210101T000000
END:STANDARD
END:VTIMEZONE
BEGIN:VEVENT
DTSTART;TZID=UTC:20220929T160000
DTEND;TZID=UTC:20221002T170000
DTSTAMP:20260423T091241
CREATED:20211021T142151Z
LAST-MODIFIED:20220915T170039Z
UID:5522-1664467200-1664730000@www.hertsgeolsoc.org.uk
SUMMARY:Flamborough Head - Excursion
DESCRIPTION:Paul Hildreth of the Yorkshire Geological Society will lead this 3-day trip to the delights of Flamborough Head. \nItinerary: \nThursday 29 September\nIntroductory talk over drinks at 8pm.\nFriday 30 September\nNorth Landing(Welton/Burnham Chalk boundary and variations in flint form) followed by Selwick’s Bay (Burnham/Flamborough Chalk boundary\, Flamborough Fault zone and syncline) with lunch at local café & free evening.\nSaturday 1 October\nDane’s Dyke and Sewerby (Flamborough Chalk\, Flamborough Sponge Bed\, Devensian stratigraphy and Sewerby Buried Cliff (Ipswichian) with packed lunch & group meal in the evening.\nSunday 2 October\nRSPB reserve at Bempton Cliffs – clifftop walk\, spectacular geomorphology\, fault zone and there should be some seabirds still around with lunch at RSPB Centre. \nParticipants may wish to revisit the HGS June 2021 talk on It’s ‘And Up North – An overview of the Chalk of the Northern Province given by Paul Hildreth and download a fabulous Field Guide from the Members’ Section. \nJanet
URL:https://www.hertsgeolsoc.org.uk/event/flamborough-head-excursion/
LOCATION:Sefton Hotel\, The Sefton Hotel\, Bridlington\, Yorkshire\, YO15 2HX\, United Kingdom
CATEGORIES:Field Trips
END:VEVENT
END:VCALENDAR