BEGIN:VCALENDAR
VERSION:2.0
PRODID:-//Hertfordshire Geological Society - ECPv6.15.20//NONSGML v1.0//EN
CALSCALE:GREGORIAN
METHOD:PUBLISH
X-WR-CALNAME:Hertfordshire Geological Society
X-ORIGINAL-URL:https://www.hertsgeolsoc.org.uk
X-WR-CALDESC:Events for Hertfordshire Geological Society
REFRESH-INTERVAL;VALUE=DURATION:PT1H
X-Robots-Tag:noindex
X-PUBLISHED-TTL:PT1H
BEGIN:VTIMEZONE
TZID:UTC
BEGIN:STANDARD
TZOFFSETFROM:+0000
TZOFFSETTO:+0000
TZNAME:UTC
DTSTART:20210101T000000
END:STANDARD
END:VTIMEZONE
BEGIN:VEVENT
DTSTART;TZID=UTC:20220806T110000
DTEND;TZID=UTC:20220806T163000
DTSTAMP:20260423T115118
CREATED:20220616T063406Z
LAST-MODIFIED:20220622T165621Z
UID:9120-1659783600-1659803400@www.hertsgeolsoc.org.uk
SUMMARY:HGS Summer Event - Is it flat or bent? The Chalk around Royston
DESCRIPTION:Morning at Royston Cave. Park in one of the town centre car parks & walk to Royston Cave. \nRoyston Cave interior\nCome and explore the amazing Royston Cave; check out the theories and get an update on the latest geological dates produced by the Herts. Geol. Society \nLunch – local pub – The Tally Ho!\, Barkway \nAfternoon visits to Barkway Chalk Pit and Reed Chalk Pit \nBarkway Chalk Pit\nHave a look at some upended Lewes Chalk and see if we can find the Chalk Rock. \nRegister through: haydonbailey@outlook.com Cost £5.00
URL:https://www.hertsgeolsoc.org.uk/event/hgs-summer-event-the-chalk-around-royston/
LOCATION:Royston Cave\, Katherine’s Yard\, Melbourne Street\, Royston\, Hertfordshire\, SG8 7BZ\, United Kingdom
END:VEVENT
END:VCALENDAR