BEGIN:VCALENDAR
VERSION:2.0
PRODID:-//Hertfordshire Geological Society - ECPv6.15.20//NONSGML v1.0//EN
CALSCALE:GREGORIAN
METHOD:PUBLISH
X-WR-CALNAME:Hertfordshire Geological Society
X-ORIGINAL-URL:https://www.hertsgeolsoc.org.uk
X-WR-CALDESC:Events for Hertfordshire Geological Society
REFRESH-INTERVAL;VALUE=DURATION:PT1H
X-Robots-Tag:noindex
X-PUBLISHED-TTL:PT1H
BEGIN:VTIMEZONE
TZID:UTC
BEGIN:STANDARD
TZOFFSETFROM:+0000
TZOFFSETTO:+0000
TZNAME:UTC
DTSTART:20210101T000000
END:STANDARD
END:VTIMEZONE
BEGIN:VEVENT
DTSTART;TZID=UTC:20220621T204000
DTEND;TZID=UTC:20220621T210000
DTSTAMP:20260423T141654
CREATED:20220618T170740Z
LAST-MODIFIED:20220624T061343Z
UID:9132-1655844000-1655845200@www.hertsgeolsoc.org.uk
SUMMARY:BBC Radio 4 - In Touch
DESCRIPTION:Tune in to In Touch to hear HGS member Mike Lambert talking about access to museums.
URL:https://www.hertsgeolsoc.org.uk/event/bbc-radio-4-in-touch/
LOCATION:BBC Radio 4
CATEGORIES:Talks
END:VEVENT
END:VCALENDAR