BEGIN:VCALENDAR
VERSION:2.0
PRODID:-//Hertfordshire Geological Society - ECPv6.15.20//NONSGML v1.0//EN
CALSCALE:GREGORIAN
METHOD:PUBLISH
X-ORIGINAL-URL:https://www.hertsgeolsoc.org.uk
X-WR-CALDESC:Events for Hertfordshire Geological Society
REFRESH-INTERVAL;VALUE=DURATION:PT1H
X-Robots-Tag:noindex
X-PUBLISHED-TTL:PT1H
BEGIN:VTIMEZONE
TZID:UTC
BEGIN:STANDARD
TZOFFSETFROM:+0000
TZOFFSETTO:+0000
TZNAME:UTC
DTSTART:20210101T000000
END:STANDARD
END:VTIMEZONE
BEGIN:VEVENT
DTSTART;TZID=UTC:20220609T193000
DTEND;TZID=UTC:20220609T210000
DTSTAMP:20260423T143604
CREATED:20211202T164656Z
LAST-MODIFIED:20220610T141502Z
UID:6621-1654803000-1654808400@www.hertsgeolsoc.org.uk
SUMMARY:Preliminary observations and implications of a new Bathonian (Middle Jurassic) lagerstätte in Wiltshire\, UK
DESCRIPTION:with a focus on the micropalaeontology and geochemistry \n\n\n\ngiven by Dr. Steve Stukins (Senior Curator Micropalaeontology\, Natural History Museum\, London) \nAbstract: \n\n\n\nA new UK Bathonian (Middle Jurassic) lagerstätte has been revealed and was publicised last year as one of the most important Jurassic echinoderm localities in the world. Excavation of the site has produced thousands of exceptionally preserved articulated echinoderms including at least 18 species\, belonging to all five extant echinoderm classes. A closer look however\, at the range of other fossil groups has shown the exceptional preservation and diversity is not limited to the echinoderms. \nStephen will be presenting initial findings from the palynological and microfaunal investigations along with some geochemical analysis in order to help understand the local environment and why this ‘unique’ site exists. The wider context of palaeogeography and our understanding of the UK Jurassic will also be opened up to debate. \nView This Talk In The Members’ Section.
URL:https://www.hertsgeolsoc.org.uk/event/preliminary-observations-and-implications-of-a-new-bathonian-middle-jurassic-lagerstatte-in-wiltshire-uk/
LOCATION:Oaklands College\, Sapsed Room (SR)\, Oaklands College\, St Albans\, Hertfordshire\, AL4 0XS\, United Kingdom
CATEGORIES:Talks
ATTACH;FMTTYPE=image/jpeg:https://www.hertsgeolsoc.org.uk/wp-content/uploads/2022/06/June-Talk-Image.jpg
END:VEVENT
END:VCALENDAR