BEGIN:VCALENDAR
VERSION:2.0
PRODID:-//Hertfordshire Geological Society - ECPv6.15.20//NONSGML v1.0//EN
CALSCALE:GREGORIAN
METHOD:PUBLISH
X-ORIGINAL-URL:https://www.hertsgeolsoc.org.uk
X-WR-CALDESC:Events for Hertfordshire Geological Society
REFRESH-INTERVAL;VALUE=DURATION:PT1H
X-Robots-Tag:noindex
X-PUBLISHED-TTL:PT1H
BEGIN:VTIMEZONE
TZID:UTC
BEGIN:STANDARD
TZOFFSETFROM:+0000
TZOFFSETTO:+0000
TZNAME:UTC
DTSTART:20200101T000000
END:STANDARD
END:VTIMEZONE
BEGIN:VEVENT
DTSTART;TZID=UTC:20211209T193000
DTEND;TZID=UTC:20211209T210000
DTSTAMP:20260423T225845
CREATED:20210627T145421Z
LAST-MODIFIED:20220319T193159Z
UID:1981-1639078200-1639083600@www.hertsgeolsoc.org.uk
SUMMARY:The last British Ice Sheet
DESCRIPTION:given by Dr Bethan Davies (Royal Holloway\, University of London) \nAbstract: \nUnderstanding how the last British-Irish Ice Sheet behaved in response to external climatic forcing may be used as an analogue for how the Antarctic Ice Sheet may behave in the future. We can use these empirical datasets to calibrate numerical simulations and better understand ice-sheet response to climate and ocean forcing. During the Last Glacial Maximum (LGM)\, ice streams of the last British-Irish Ice Sheet (BIIS) controlled the ice discharge from various dispersal centres. Deglaciation was characterised by shifts in ice-divide location and changes in internal ice-sheet dynamics\, resulting in substantial flow switches and significant ice-stream reconfiguration\, and hence modification of their landform signatures. We present new geomorphological mapping and 10Be cosmogenic nuclide ages from Northern England (Stainmore Gap\, Eden Valley and Vale of York)\, that constrain regional dynamic ice-stream retreat following the LGM. We identify complex decoupling of competing ice lobes\, characterised by early retreat of the North Sea Lobe and a minor re-advance of Stainmore ice prior to ~20 ka. This was followed by rapid recession of the central Stainmore Gap\, contemporaneous with the recession of the Tyne Gap Ice Stream. The northwards ice-flow reversal in the Vale of Eden was associated with the development of ice domes across the northern Pennines\, Howgill Fells and the Lake District. This shift in dispersal centres and ice divide migration likely triggered the rapid collapse of eastward ice stream corridors.  The central sector of the BIIS rapidly collapsed back up into upland dispersal centres between 20 to 17.5 ka.  This work highlights the role internal factors\, such as topography\, in driving ice-divide migration and flow switches during externally and climatically forced ice-sheet thinning. \nView this talk in the Members’ Section.
URL:https://www.hertsgeolsoc.org.uk/event/the-last-british-ice-sheet/
LOCATION:Zoom Talk
CATEGORIES:Talks
ATTACH;FMTTYPE=image/png:https://www.hertsgeolsoc.org.uk/wp-content/uploads/2022/01/Screenshot-2022-01-25-at-16.25.56.png
END:VEVENT
END:VCALENDAR