BEGIN:VCALENDAR
VERSION:2.0
PRODID:-//Hertfordshire Geological Society - ECPv6.15.20//NONSGML v1.0//EN
CALSCALE:GREGORIAN
METHOD:PUBLISH
X-WR-CALNAME:Hertfordshire Geological Society
X-ORIGINAL-URL:https://www.hertsgeolsoc.org.uk
X-WR-CALDESC:Events for Hertfordshire Geological Society
REFRESH-INTERVAL;VALUE=DURATION:PT1H
X-Robots-Tag:noindex
X-PUBLISHED-TTL:PT1H
BEGIN:VTIMEZONE
TZID:UTC
BEGIN:STANDARD
TZOFFSETFROM:+0000
TZOFFSETTO:+0000
TZNAME:UTC
DTSTART:20200101T000000
END:STANDARD
END:VTIMEZONE
BEGIN:VEVENT
DTSTART;TZID=UTC:20211107T100000
DTEND;TZID=UTC:20211107T160000
DTSTAMP:20260424T001943
CREATED:20211024T152829Z
LAST-MODIFIED:20211024T153331Z
UID:5587-1636279200-1636300800@www.hertsgeolsoc.org.uk
SUMMARY:GA Real Urban Geology Walks
DESCRIPTION:
URL:https://www.hertsgeolsoc.org.uk/event/ga-real-urban-geology-walks/
LOCATION:Hertfordshire
END:VEVENT
END:VCALENDAR